BEGIN:VCALENDAR
VERSION:2.0
PRODID:-//NetAuktion//NONSGML NetAuktion//SV
METHOD:PUBLISH
BEGIN:VEVENT
UID:20260425T134347-913642769-netauktion.se
DTSTAMP:20260425T134347
DTSTART:20090521T012000
DTEND:20090521T012300
SUMMARY:Netauktion objekt 0128-135 Auktionspåminnelse
DESCRIPTION:Länk till objektet du var intresserad av: https://staging.netauktion.se/auktion/produkt/cd-rom-vaxlare-for-pc
END:VEVENT
END:VCALENDAR
