BEGIN:VCALENDAR
VERSION:2.0
PRODID:-//NetAuktion//NONSGML NetAuktion//SV
METHOD:PUBLISH
BEGIN:VEVENT
UID:20260421T104431-1005565986-netauktion.se
DTSTAMP:20260421T104431
DTSTART:20090430T012100
DTEND:20090430T012400
SUMMARY:Netauktion objekt 0124-029 Auktionspåminnelse
DESCRIPTION:Länk till objektet du var intresserad av: https://staging.netauktion.se/auktion/produkt/designmatta-runner-stripedot
END:VEVENT
END:VCALENDAR
