BEGIN:VCALENDAR
VERSION:2.0
PRODID:-//NetAuktion//NONSGML NetAuktion//SV
METHOD:PUBLISH
BEGIN:VEVENT
UID:20260421T102706-149792803-netauktion.se
DTSTAMP:20260421T102706
DTSTART:20131129T021300
DTEND:20131129T021600
SUMMARY:Netauktion objekt 1508-016 Auktionspåminnelse
DESCRIPTION:Länk till objektet du var intresserad av: https://staging.netauktion.se/auktion/produkt/el-scooter-sterling-elite-5-2
END:VEVENT
END:VCALENDAR
