BEGIN:VCALENDAR
VERSION:2.0
PRODID:-//NetAuktion//NONSGML NetAuktion//SV
METHOD:PUBLISH
BEGIN:VEVENT
UID:20260421T104309-2065857989-netauktion.se
DTSTAMP:20260421T104309
DTSTART:20131129T021300
DTEND:20131129T021600
SUMMARY:Netauktion objekt 1508-017 Auktionspåminnelse
DESCRIPTION:Länk till objektet du var intresserad av: https://staging.netauktion.se/auktion/produkt/el-scooter-sterling-elite-6-2
END:VEVENT
END:VCALENDAR
