BEGIN:VCALENDAR
VERSION:2.0
PRODID:-//NetAuktion//NONSGML NetAuktion//SV
METHOD:PUBLISH
BEGIN:VEVENT
UID:20260421T102935-1222046520-netauktion.se
DTSTAMP:20260421T102935
DTSTART:20130731T035900
DTEND:20130731T040200
SUMMARY:Netauktion objekt 1506-127 Auktionspåminnelse
DESCRIPTION:Länk till objektet du var intresserad av: https://staging.netauktion.se/auktion/produkt/hylsnycklar
END:VEVENT
END:VCALENDAR
