BEGIN:VCALENDAR
VERSION:2.0
PRODID:-//NetAuktion//NONSGML NetAuktion//SV
METHOD:PUBLISH
BEGIN:VEVENT
UID:20260421T102851-2024956197-netauktion.se
DTSTAMP:20260421T102851
DTSTART:20130731T040100
DTEND:20130731T040400
SUMMARY:Netauktion objekt 1506-130 Auktionspåminnelse
DESCRIPTION:Länk till objektet du var intresserad av: https://staging.netauktion.se/auktion/produkt/elvinda-och-bankslip
END:VEVENT
END:VCALENDAR
