BEGIN:VCALENDAR
VERSION:2.0
PRODID:-//NetAuktion//NONSGML NetAuktion//SV
METHOD:PUBLISH
BEGIN:VEVENT
UID:20260421T104606-72534272-netauktion.se
DTSTAMP:20260421T104606
DTSTART:20130731T041400
DTEND:20130731T041700
SUMMARY:Netauktion objekt 1506-143 Auktionspåminnelse
DESCRIPTION:Länk till objektet du var intresserad av: https://staging.netauktion.se/auktion/produkt/domkrafter
END:VEVENT
END:VCALENDAR
