BEGIN:VCALENDAR
VERSION:2.0
PRODID:-//NetAuktion//NONSGML NetAuktion//SV
METHOD:PUBLISH
BEGIN:VEVENT
UID:20260421T104604-1182536792-netauktion.se
DTSTAMP:20260421T104604
DTSTART:20130731T043000
DTEND:20130731T043300
SUMMARY:Netauktion objekt 1506-150 Auktionspåminnelse
DESCRIPTION:Länk till objektet du var intresserad av: https://staging.netauktion.se/auktion/produkt/egengjord-bank-med-nycklar
END:VEVENT
END:VCALENDAR
