BEGIN:VCALENDAR
VERSION:2.0
PRODID:-//NetAuktion//NONSGML NetAuktion//SV
METHOD:PUBLISH
BEGIN:VEVENT
UID:20260421T104603-1835730609-netauktion.se
DTSTAMP:20260421T104603
DTSTART:20130731T042000
DTEND:20130731T042300
SUMMARY:Netauktion objekt 1506-151 Auktionspåminnelse
DESCRIPTION:Länk till objektet du var intresserad av: https://staging.netauktion.se/auktion/produkt/stankskarmar-for-lastbil
END:VEVENT
END:VCALENDAR
