BEGIN:VCALENDAR
VERSION:2.0
PRODID:-//NetAuktion//NONSGML NetAuktion//SV
METHOD:PUBLISH
BEGIN:VEVENT
UID:20260421T104608-150767492-netauktion.se
DTSTAMP:20260421T104608
DTSTART:20130731T043500
DTEND:20130731T043800
SUMMARY:Netauktion objekt 1506-166 Auktionspåminnelse
DESCRIPTION:Länk till objektet du var intresserad av: https://staging.netauktion.se/auktion/produkt/4st-dack-nokian
END:VEVENT
END:VCALENDAR
