BEGIN:VCALENDAR
VERSION:2.0
PRODID:-//NetAuktion//NONSGML NetAuktion//SV
METHOD:PUBLISH
BEGIN:VEVENT
UID:20260421T104532-1967535460-netauktion.se
DTSTAMP:20260421T104532
DTSTART:20130731T044500
DTEND:20130731T044800
SUMMARY:Netauktion objekt 1506-159 Auktionspåminnelse
DESCRIPTION:Länk till objektet du var intresserad av: https://staging.netauktion.se/auktion/produkt/6st-platskap-med-lastbilsdelar
END:VEVENT
END:VCALENDAR
