BEGIN:VCALENDAR
VERSION:2.0
PRODID:-//NetAuktion//NONSGML NetAuktion//SV
METHOD:PUBLISH
BEGIN:VEVENT
UID:20260425T122333-2122284797-netauktion.se
DTSTAMP:20260425T122333
DTSTART:20090521T013100
DTEND:20090521T013400
SUMMARY:Netauktion objekt 0201-174 Auktionspåminnelse
DESCRIPTION:Länk till objektet du var intresserad av: https://staging.netauktion.se/auktion/produkt/2st-nya-peak-performance-solglasogon-sun-valley-high-sierra
END:VEVENT
END:VCALENDAR
