BEGIN:VCALENDAR
VERSION:2.0
PRODID:-//NetAuktion//NONSGML NetAuktion//SV
METHOD:PUBLISH
BEGIN:VEVENT
UID:20260421T104320-701727946-netauktion.se
DTSTAMP:20260421T104320
DTSTART:20090521T042900
DTEND:20090521T043200
SUMMARY:Netauktion objekt 0201-177 Auktionspåminnelse
DESCRIPTION:Länk till objektet du var intresserad av: https://staging.netauktion.se/auktion/produkt/2st-peak-performance-el-capitan-3
END:VEVENT
END:VCALENDAR
