BEGIN:VCALENDAR
VERSION:2.0
PRODID:-//NetAuktion//NONSGML NetAuktion//SV
METHOD:PUBLISH
BEGIN:VEVENT
UID:20260425T123448-730878912-netauktion.se
DTSTAMP:20260425T123448
DTSTART:20090521T021300
DTEND:20090521T021600
SUMMARY:Netauktion objekt 0201-151 Auktionspåminnelse
DESCRIPTION:Länk till objektet du var intresserad av: https://staging.netauktion.se/auktion/produkt/4st-rostfria-spannband-for-sim-fena
END:VEVENT
END:VCALENDAR
