BEGIN:VCALENDAR
VERSION:2.0
PRODID:-//NetAuktion//NONSGML NetAuktion//SV
METHOD:PUBLISH
BEGIN:VEVENT
UID:20260421T103006-504510565-netauktion.se
DTSTAMP:20260421T103006
DTSTART:20130930T024700
DTEND:20130930T025000
SUMMARY:Netauktion objekt 1193-465 Auktionspåminnelse
DESCRIPTION:Länk till objektet du var intresserad av: https://staging.netauktion.se/auktion/produkt/hollywoodtavlor
END:VEVENT
END:VCALENDAR
