BEGIN:VCALENDAR
VERSION:2.0
PRODID:-//NetAuktion//NONSGML NetAuktion//SV
METHOD:PUBLISH
BEGIN:VEVENT
UID:20260421T102853-931864801-netauktion.se
DTSTAMP:20260421T102853
DTSTART:20090429T014100
DTEND:20090429T014400
SUMMARY:Netauktion objekt 0163-345 Auktionspåminnelse
DESCRIPTION:Länk till objektet du var intresserad av: https://staging.netauktion.se/auktion/produkt/nya-smycken-fran-zr-samt-izzi-varde-9925kr-7
END:VEVENT
END:VCALENDAR
