BEGIN:VCALENDAR
VERSION:2.0
PRODID:-//NetAuktion//NONSGML NetAuktion//SV
METHOD:PUBLISH
BEGIN:VEVENT
UID:20260421T104320-709994216-netauktion.se
DTSTAMP:20260421T104320
DTSTART:20091030T000300
DTEND:20091030T000600
SUMMARY:Netauktion objekt 0245-004 Auktionspåminnelse
DESCRIPTION:Länk till objektet du var intresserad av: https://staging.netauktion.se/auktion/produkt/konferensmapp-9
END:VEVENT
END:VCALENDAR
