BEGIN:VCALENDAR
VERSION:2.0
PRODID:-//NetAuktion//NONSGML NetAuktion//SV
METHOD:PUBLISH
BEGIN:VEVENT
UID:20260421T104318-1684422968-netauktion.se
DTSTAMP:20260421T104318
DTSTART:20130829T043500
DTEND:20130829T043800
SUMMARY:Netauktion objekt 1532-089 Auktionspåminnelse
DESCRIPTION:Länk till objektet du var intresserad av: https://staging.netauktion.se/auktion/produkt/kaffemugg-i-stengods-med-tryck-2
END:VEVENT
END:VCALENDAR
