BEGIN:VCALENDAR
VERSION:2.0
PRODID:-//NetAuktion//NONSGML NetAuktion//SV
METHOD:PUBLISH
BEGIN:VEVENT
UID:20260421T104355-1839977201-netauktion.se
DTSTAMP:20260421T104355
DTSTART:20130829T044100
DTEND:20130829T044400
SUMMARY:Netauktion objekt 1532-109 Auktionspåminnelse
DESCRIPTION:Länk till objektet du var intresserad av: https://staging.netauktion.se/auktion/produkt/ljusmanschetter-vita
END:VEVENT
END:VCALENDAR
