BEGIN:VCALENDAR
VERSION:2.0
PRODID:-//NetAuktion//NONSGML NetAuktion//SV
METHOD:PUBLISH
BEGIN:VEVENT
UID:20260421T102935-1760204933-netauktion.se
DTSTAMP:20260421T102935
DTSTART:20130829T040100
DTEND:20130829T040400
SUMMARY:Netauktion objekt 1532-289 Auktionspåminnelse
DESCRIPTION:Länk till objektet du var intresserad av: https://staging.netauktion.se/auktion/produkt/talande-kylskapsmagnet-family-guy
END:VEVENT
END:VCALENDAR
