BEGIN:VCALENDAR
VERSION:2.0
PRODID:-//NetAuktion//NONSGML NetAuktion//SV
METHOD:PUBLISH
BEGIN:VEVENT
UID:20260421T102801-1418377094-netauktion.se
DTSTAMP:20260421T102801
DTSTART:20130829T040600
DTEND:20130829T040900
SUMMARY:Netauktion objekt 1532-312 Auktionspåminnelse
DESCRIPTION:Länk till objektet du var intresserad av: https://staging.netauktion.se/auktion/produkt/kaffemugg-family-guy-2
END:VEVENT
END:VCALENDAR
