BEGIN:VCALENDAR
VERSION:2.0
PRODID:-//NetAuktion//NONSGML NetAuktion//SV
METHOD:PUBLISH
BEGIN:VEVENT
UID:20260421T102744-1658420190-netauktion.se
DTSTAMP:20260421T102744
DTSTART:20130829T040800
DTEND:20130829T041100
SUMMARY:Netauktion objekt 1532-330 Auktionspåminnelse
DESCRIPTION:Länk till objektet du var intresserad av: https://staging.netauktion.se/auktion/produkt/vackarklocka-betty-boop-5
END:VEVENT
END:VCALENDAR
