BEGIN:VCALENDAR
VERSION:2.0
PRODID:-//NetAuktion//NONSGML NetAuktion//SV
METHOD:PUBLISH
BEGIN:VEVENT
UID:20260421T104445-1224921108-netauktion.se
DTSTAMP:20260421T104445
DTSTART:20130829T040900
DTEND:20130829T041200
SUMMARY:Netauktion objekt 1532-333 Auktionspåminnelse
DESCRIPTION:Länk till objektet du var intresserad av: https://staging.netauktion.se/auktion/produkt/kaffemugg-svamp-bob-fyrkant-3
END:VEVENT
END:VCALENDAR
