BEGIN:VCALENDAR
VERSION:2.0
PRODID:-//NetAuktion//NONSGML NetAuktion//SV
METHOD:PUBLISH
BEGIN:VEVENT
UID:20260421T102804-473897615-netauktion.se
DTSTAMP:20260421T102804
DTSTART:20090429T012100
DTEND:20090429T012400
SUMMARY:Netauktion objekt 0163-436 Auktionspåminnelse
DESCRIPTION:Länk till objektet du var intresserad av: https://staging.netauktion.se/auktion/produkt/nya-klockor-zr-design-varde-5000kr-7
END:VEVENT
END:VCALENDAR
