BEGIN:VCALENDAR
VERSION:2.0
PRODID:-//NetAuktion//NONSGML NetAuktion//SV
METHOD:PUBLISH
BEGIN:VEVENT
UID:20260421T104431-1643162019-netauktion.se
DTSTAMP:20260421T104431
DTSTART:20131028T011300
DTEND:20131028T011600
SUMMARY:Netauktion objekt 1503-405 Auktionspåminnelse
DESCRIPTION:Länk till objektet du var intresserad av: https://staging.netauktion.se/auktion/produkt/kavaj-strl-1-forte-forte
END:VEVENT
END:VCALENDAR
