BEGIN:VCALENDAR
VERSION:2.0
PRODID:-//NetAuktion//NONSGML NetAuktion//SV
METHOD:PUBLISH
BEGIN:VEVENT
UID:20260421T102743-1999450374-netauktion.se
DTSTAMP:20260421T102743
DTSTART:20131028T012100
DTEND:20131028T012400
SUMMARY:Netauktion objekt 1503-416 Auktionspåminnelse
DESCRIPTION:Länk till objektet du var intresserad av: https://staging.netauktion.se/auktion/produkt/kofta-strl-1-forte-forte
END:VEVENT
END:VCALENDAR
