BEGIN:VCALENDAR
VERSION:2.0
PRODID:-//NetAuktion//NONSGML NetAuktion//SV
METHOD:PUBLISH
BEGIN:VEVENT
UID:20260421T104317-1268062999-netauktion.se
DTSTAMP:20260421T104317
DTSTART:20130930T023600
DTEND:20130930T023900
SUMMARY:Netauktion objekt 1146-279 Auktionspåminnelse
DESCRIPTION:Länk till objektet du var intresserad av: https://staging.netauktion.se/auktion/produkt/halsband-och-armband-amor-2-4
END:VEVENT
END:VCALENDAR
