BEGIN:VCALENDAR
VERSION:2.0
PRODID:-//NetAuktion//NONSGML NetAuktion//SV
METHOD:PUBLISH
BEGIN:VEVENT
UID:20260421T102705-573565785-netauktion.se
DTSTAMP:20260421T102705
DTSTART:20080731T011700
DTEND:20080731T012000
SUMMARY:Netauktion objekt 0055-001 Auktionspåminnelse
DESCRIPTION:Länk till objektet du var intresserad av: https://staging.netauktion.se/auktion/produkt/6000st-nya-videofilmer-parlamentet-mfl
END:VEVENT
END:VCALENDAR
