BEGIN:VCALENDAR
VERSION:2.0
PRODID:-//NetAuktion//NONSGML NetAuktion//SV
METHOD:PUBLISH
BEGIN:VEVENT
UID:20260421T102837-1073683088-netauktion.se
DTSTAMP:20260421T102837
DTSTART:20130930T023700
DTEND:20130930T024000
SUMMARY:Netauktion objekt 1146-294 Auktionspåminnelse
DESCRIPTION:Länk till objektet du var intresserad av: https://staging.netauktion.se/auktion/produkt/silverhalsband-och-armband-royalty-mfl-2
END:VEVENT
END:VCALENDAR
