BEGIN:VCALENDAR
VERSION:2.0
PRODID:-//NetAuktion//NONSGML NetAuktion//SV
METHOD:PUBLISH
BEGIN:VEVENT
UID:20260421T104256-1436463981-netauktion.se
DTSTAMP:20260421T104256
DTSTART:20080731T011300
DTEND:20080731T011600
SUMMARY:Netauktion objekt 0055-003 Auktionspåminnelse
DESCRIPTION:Länk till objektet du var intresserad av: https://staging.netauktion.se/auktion/produkt/6350st-nya-videofilmer-dan-backman-transformers-mfl
END:VEVENT
END:VCALENDAR
