BEGIN:VCALENDAR
VERSION:2.0
PRODID:-//NetAuktion//NONSGML NetAuktion//SV
METHOD:PUBLISH
BEGIN:VEVENT
UID:20260421T104309-390220075-netauktion.se
DTSTAMP:20260421T104309
DTSTART:20130830T210700
DTEND:20130830T211000
SUMMARY:Netauktion objekt 1560-026 Auktionspåminnelse
DESCRIPTION:Länk till objektet du var intresserad av: https://staging.netauktion.se/auktion/produkt/3st-konfektionsstall-och-1st-helkroppsspegel
END:VEVENT
END:VCALENDAR
