BEGIN:VCALENDAR
VERSION:2.0
PRODID:-//NetAuktion//NONSGML NetAuktion//SV
METHOD:PUBLISH
BEGIN:VEVENT
UID:20260425T123243-1040983711-netauktion.se
DTSTAMP:20260425T123243
DTSTART:20090521T013400
DTEND:20090521T013700
SUMMARY:Netauktion objekt 0163-493 Auktionspåminnelse
DESCRIPTION:Länk till objektet du var intresserad av: https://staging.netauktion.se/auktion/produkt/nya-smycken-fran-zr-design-varde-10-575kr-12
END:VEVENT
END:VCALENDAR
