BEGIN:VCALENDAR
VERSION:2.0
PRODID:-//NetAuktion//NONSGML NetAuktion//SV
METHOD:PUBLISH
BEGIN:VEVENT
UID:20260421T104307-1545644870-netauktion.se
DTSTAMP:20260421T104307
DTSTART:20080627T021400
DTEND:20080627T021700
SUMMARY:Netauktion objekt 0054-001 Auktionspåminnelse
DESCRIPTION:Länk till objektet du var intresserad av: https://staging.netauktion.se/auktion/produkt/4st-mattor-impuls-4
END:VEVENT
END:VCALENDAR
