BEGIN:VCALENDAR
VERSION:2.0
PRODID:-//NetAuktion//NONSGML NetAuktion//SV
METHOD:PUBLISH
BEGIN:VEVENT
UID:20260425T123253-1247826406-netauktion.se
DTSTAMP:20260425T123253
DTSTART:20131218T021700
DTEND:20131218T022000
SUMMARY:Netauktion objekt 1582-001 Auktionspåminnelse
DESCRIPTION:Länk till objektet du var intresserad av: https://staging.netauktion.se/auktion/produkt/sittgrupp-med-aldre-karmstol-kolhink
END:VEVENT
END:VCALENDAR
