BEGIN:VCALENDAR
VERSION:2.0
PRODID:-//NetAuktion//NONSGML NetAuktion//SV
METHOD:PUBLISH
BEGIN:VEVENT
UID:20260421T102954-927432972-netauktion.se
DTSTAMP:20260421T102954
DTSTART:20131028T225500
DTEND:20131028T225800
SUMMARY:Netauktion objekt 1560-069 Auktionspåminnelse
DESCRIPTION:Länk till objektet du var intresserad av: https://staging.netauktion.se/auktion/produkt/smycken-fran-sno-19
END:VEVENT
END:VCALENDAR
