BEGIN:VCALENDAR
VERSION:2.0
PRODID:-//NetAuktion//NONSGML NetAuktion//SV
METHOD:PUBLISH
BEGIN:VEVENT
UID:20260421T103033-678741545-netauktion.se
DTSTAMP:20260421T103033
DTSTART:20131030T021000
DTEND:20131030T021300
SUMMARY:Netauktion objekt 1414-008 Auktionspåminnelse
DESCRIPTION:Länk till objektet du var intresserad av: https://staging.netauktion.se/auktion/produkt/bredbands-panelantenn-powerwave-7
END:VEVENT
END:VCALENDAR
