BEGIN:VCALENDAR
VERSION:2.0
PRODID:-//NetAuktion//NONSGML NetAuktion//SV
METHOD:PUBLISH
BEGIN:VEVENT
UID:20260425T123426-409056954-netauktion.se
DTSTAMP:20260425T123426
DTSTART:20090521T021400
DTEND:20090521T021700
SUMMARY:Netauktion objekt 0201-193 Auktionspåminnelse
DESCRIPTION:Länk till objektet du var intresserad av: https://staging.netauktion.se/auktion/produkt/ny-dykvast-seac-sub-prolady-strl-xs-3
END:VEVENT
END:VCALENDAR
