BEGIN:VCALENDAR
VERSION:2.0
PRODID:-//NetAuktion//NONSGML NetAuktion//SV
METHOD:PUBLISH
BEGIN:VEVENT
UID:20260421T103130-1241191301-netauktion.se
DTSTAMP:20260421T103130
DTSTART:20131030T021400
DTEND:20131030T021700
SUMMARY:Netauktion objekt 1414-016 Auktionspåminnelse
DESCRIPTION:Länk till objektet du var intresserad av: https://staging.netauktion.se/auktion/produkt/hyllbelysning-for-tex-exponeringsstall-1
END:VEVENT
END:VCALENDAR
