BEGIN:VCALENDAR
VERSION:2.0
PRODID:-//NetAuktion//NONSGML NetAuktion//SV
METHOD:PUBLISH
BEGIN:VEVENT
UID:20260421T104433-1104721680-netauktion.se
DTSTAMP:20260421T104433
DTSTART:20130930T025100
DTEND:20130930T025400
SUMMARY:Netauktion objekt 1553-052 Auktionspåminnelse
DESCRIPTION:Länk till objektet du var intresserad av: https://staging.netauktion.se/auktion/produkt/harspannen-4
END:VEVENT
END:VCALENDAR
