BEGIN:VCALENDAR
VERSION:2.0
PRODID:-//NetAuktion//NONSGML NetAuktion//SV
METHOD:PUBLISH
BEGIN:VEVENT
UID:20260421T104352-1773428609-netauktion.se
DTSTAMP:20260421T104352
DTSTART:20130930T025200
DTEND:20130930T025500
SUMMARY:Netauktion objekt 1553-053 Auktionspåminnelse
DESCRIPTION:Länk till objektet du var intresserad av: https://staging.netauktion.se/auktion/produkt/harspannen-i-metall-2
END:VEVENT
END:VCALENDAR
