BEGIN:VCALENDAR
VERSION:2.0
PRODID:-//NetAuktion//NONSGML NetAuktion//SV
METHOD:PUBLISH
BEGIN:VEVENT
UID:20260421T102934-357140207-netauktion.se
DTSTAMP:20260421T102934
DTSTART:20131129T013100
DTEND:20131129T013400
SUMMARY:Netauktion objekt 1596-056 Auktionspåminnelse
DESCRIPTION:Länk till objektet du var intresserad av: https://staging.netauktion.se/auktion/produkt/multiladdarpaketx2-for-laptops-mobiltelefoner-4
END:VEVENT
END:VCALENDAR
