BEGIN:VCALENDAR
VERSION:2.0
PRODID:-//NetAuktion//NONSGML NetAuktion//SV
METHOD:PUBLISH
BEGIN:VEVENT
UID:20260421T104438-920188668-netauktion.se
DTSTAMP:20260421T104438
DTSTART:20131129T013600
DTEND:20131129T013900
SUMMARY:Netauktion objekt 1596-057 Auktionspåminnelse
DESCRIPTION:Länk till objektet du var intresserad av: https://staging.netauktion.se/auktion/produkt/multiladdarpaketx2-for-laptops-mobiltelefoner-2
END:VEVENT
END:VCALENDAR
