BEGIN:VCALENDAR
VERSION:2.0
PRODID:-//NetAuktion//NONSGML NetAuktion//SV
METHOD:PUBLISH
BEGIN:VEVENT
UID:20260421T104321-65575137-netauktion.se
DTSTAMP:20260421T104321
DTSTART:20090430T043100
DTEND:20090430T043400
SUMMARY:Netauktion objekt 0163-560 Auktionspåminnelse
DESCRIPTION:Länk till objektet du var intresserad av: https://staging.netauktion.se/auktion/produkt/nya-set-med-korthallare-och-nyckelhange-samt-mapp-innehallandes-block-och-miniraknare-2
END:VEVENT
END:VCALENDAR
