BEGIN:VCALENDAR
VERSION:2.0
PRODID:-//NetAuktion//NONSGML NetAuktion//SV
METHOD:PUBLISH
BEGIN:VEVENT
UID:20260421T104454-169591065-netauktion.se
DTSTAMP:20260421T104454
DTSTART:20131031T021000
DTEND:20131031T021300
SUMMARY:Netauktion objekt 0516-031 Auktionspåminnelse
DESCRIPTION:Länk till objektet du var intresserad av: https://staging.netauktion.se/auktion/produkt/korsstygn-vepor-ii
END:VEVENT
END:VCALENDAR
