BEGIN:VCALENDAR
VERSION:2.0
PRODID:-//NetAuktion//NONSGML NetAuktion//SV
METHOD:PUBLISH
BEGIN:VEVENT
UID:20260421T104429-2135357213-netauktion.se
DTSTAMP:20260421T104429
DTSTART:20131031T021200
DTEND:20131031T021500
SUMMARY:Netauktion objekt 0516-035 Auktionspåminnelse
DESCRIPTION:Länk till objektet du var intresserad av: https://staging.netauktion.se/auktion/produkt/korsstygn-vepor-vi
END:VEVENT
END:VCALENDAR
