BEGIN:VCALENDAR
VERSION:2.0
PRODID:-//NetAuktion//NONSGML NetAuktion//SV
METHOD:PUBLISH
BEGIN:VEVENT
UID:20260421T104357-972527828-netauktion.se
DTSTAMP:20260421T104357
DTSTART:20131031T021400
DTEND:20131031T021700
SUMMARY:Netauktion objekt 0516-036 Auktionspåminnelse
DESCRIPTION:Länk till objektet du var intresserad av: https://staging.netauktion.se/auktion/produkt/korsstygn-vepor-vii
END:VEVENT
END:VCALENDAR
