BEGIN:VCALENDAR
VERSION:2.0
PRODID:-//NetAuktion//NONSGML NetAuktion//SV
METHOD:PUBLISH
BEGIN:VEVENT
UID:20260421T102704-519916018-netauktion.se
DTSTAMP:20260421T102704
DTSTART:20131129T012100
DTEND:20131129T012400
SUMMARY:Netauktion objekt 1146-322 Auktionspåminnelse
DESCRIPTION:Länk till objektet du var intresserad av: https://staging.netauktion.se/auktion/produkt/arets-manadsstenar-guldplaterade-silverkedjor-9
END:VEVENT
END:VCALENDAR
