BEGIN:VCALENDAR
VERSION:2.0
PRODID:-//NetAuktion//NONSGML NetAuktion//SV
METHOD:PUBLISH
BEGIN:VEVENT
UID:20260421T104316-1677492993-netauktion.se
DTSTAMP:20260421T104316
DTSTART:20131031T015800
DTEND:20131031T020100
SUMMARY:Netauktion objekt 0516-045 Auktionspåminnelse
DESCRIPTION:Länk till objektet du var intresserad av: https://staging.netauktion.se/auktion/produkt/diverse-damklader-i-storlek-4648
END:VEVENT
END:VCALENDAR
