BEGIN:VCALENDAR
VERSION:2.0
PRODID:-//NetAuktion//NONSGML NetAuktion//SV
METHOD:PUBLISH
BEGIN:VEVENT
UID:20260421T104459-455335573-netauktion.se
DTSTAMP:20260421T104459
DTSTART:20140228T031600
DTEND:20140228T031900
SUMMARY:Netauktion objekt 1146-399 Auktionspåminnelse
DESCRIPTION:Länk till objektet du var intresserad av: https://staging.netauktion.se/auktion/produkt/smyckeset-3-delar-queen-lavendel-8
END:VEVENT
END:VCALENDAR
