BEGIN:VCALENDAR
VERSION:2.0
PRODID:-//NetAuktion//NONSGML NetAuktion//SV
METHOD:PUBLISH
BEGIN:VEVENT
UID:20260421T102933-2116980077-netauktion.se
DTSTAMP:20260421T102933
DTSTART:20140228T032200
DTEND:20140228T032500
SUMMARY:Netauktion objekt 1146-401 Auktionspåminnelse
DESCRIPTION:Länk till objektet du var intresserad av: https://staging.netauktion.se/auktion/produkt/smyckeset-3-delar-queen-lavendel-4
END:VEVENT
END:VCALENDAR
